BEGIN:VCALENDAR
VERSION:2.0
PRODID:-//wp-events-plugin.com//7.2.2.1//EN
TZID:Europe/Paris
X-WR-TIMEZONE:Europe/Paris
BEGIN:VEVENT
UID:0-1145@coignieres.fr
DTSTART;TZID=Europe/Paris:20260428T194500
DTEND;TZID=Europe/Paris:20260428T194500
DTSTAMP:20260423T093249Z
URL:https://www.coignieres.fr/evenements/conseil-municipal/
SUMMARY:Conseil municipal
DESCRIPTION:Consultez l'ordre du jour ci-après.
ATTACH;FMTTYPE=image/jpeg:https://www.coignieres.fr/app/uploads/1/2026/04/
 Conseil-municipal.jpg
CATEGORIES:Conseil Municipal,Projets
LOCATION:Mairie de Coignières - Place de l'Église Saint-Germain d'Auxerre
 \, France
X-APPLE-STRUCTURED-LOCATION;VALUE=URI;X-ADDRESS=Mairie de Coignières - Pla
 ce de l'Église Saint-Germain d'Auxerre\, France;X-APPLE-RADIUS=100;X-TITL
 E=:geo:0,0
END:VEVENT
BEGIN:VTIMEZONE
TZID:Europe/Paris
X-LIC-LOCATION:Europe/Paris
BEGIN:DAYLIGHT
DTSTART:20260329T030000
TZOFFSETFROM:+0100
TZOFFSETTO:+0200
TZNAME:CEST
END:DAYLIGHT
END:VTIMEZONE
END:VCALENDAR