BEGIN:VCALENDAR
VERSION:2.0
PRODID:-//wp-events-plugin.com//7.2.2.1//EN
TZID:Europe/Paris
X-WR-TIMEZONE:Europe/Paris
BEGIN:VEVENT
UID:0-1150@coignieres.fr
DTSTART;TZID=Europe/Paris:20260507T163000
DTEND;TZID=Europe/Paris:20260507T173000
DTSTAMP:20260423T095327Z
URL:https://www.coignieres.fr/evenements/desserte-du-bibliobus/
SUMMARY:Desserte du bibliobus
DESCRIPTION:Plus d'infos ici
ATTACH;FMTTYPE=image/jpeg:https://www.coignieres.fr/app/uploads/2022/01/P1
 260296-scaled.jpg
LOCATION:Devant la Maison de Voisinage - Rue de Neauphle-le-Château 78310 
 Coignières\, France
X-APPLE-STRUCTURED-LOCATION;VALUE=URI;X-ADDRESS=Devant la Maison de Voisina
 ge - Rue de Neauphle-le-Château 78310 Coignières\, France;X-APPLE-RADIUS
 =100;X-TITLE=:geo:0,0
END:VEVENT
BEGIN:VTIMEZONE
TZID:Europe/Paris
X-LIC-LOCATION:Europe/Paris
BEGIN:DAYLIGHT
DTSTART:20260329T030000
TZOFFSETFROM:+0100
TZOFFSETTO:+0200
TZNAME:CEST
END:DAYLIGHT
END:VTIMEZONE
END:VCALENDAR