BEGIN:VCALENDAR
VERSION:2.0
PRODID:-//wp-events-plugin.com//7.2.2.1//EN
TZID:Europe/Paris
X-WR-TIMEZONE:Europe/Paris
BEGIN:VEVENT
UID:0-1148@coignieres.fr
DTSTART;TZID=Europe/Paris:20260504T000000
DTEND;TZID=Europe/Paris:20260504T000000
DTSTAMP:20260423T091246Z
URL:https://www.coignieres.fr/evenements/participez-au-concours-photo-la-f
 aune-et-la-flore-de-coignieres-jusquau-4-mai-2026/
SUMMARY:Participez au concours photo « La faune et la flore de Coignière
 s » jusqu’au 4 mai 2026
DESCRIPTION:Deux catégories sont proposées :\n«&nbsp\;Faune sauvage&nbsp
 \;» – photographies d’animaux sauvages observés sur notre territoire
  (oiseaux\, insectes\, mammifères\, amphibiens\, etc.) \;\n«&nbsp\;Flore
  sauvage&nbsp\;» –photographies de végétaux sauvages (fleurs\, arbres
 \, plantes\, champignons…).\nPour participer\, il vous suffit de remplir
  le formulaire ci-dessous :\nAttention : les photos doivent impérativeme
 nt être prises à Coignières –Date limite de transmission du dossier d
 ’inscription : lundi 4 mai
ATTACH;FMTTYPE=image/jpeg:https://www.coignieres.fr/app/uploads/2026/03/Vi
 suel-concours-photo-fete-de-la-nature-2026-1.jpg
END:VEVENT
BEGIN:VTIMEZONE
TZID:Europe/Paris
X-LIC-LOCATION:Europe/Paris
BEGIN:DAYLIGHT
DTSTART:20260329T030000
TZOFFSETFROM:+0100
TZOFFSETTO:+0200
TZNAME:CEST
END:DAYLIGHT
END:VTIMEZONE
END:VCALENDAR