BEGIN:VCALENDAR
VERSION:2.0
PRODID:-//wp-events-plugin.com//7.2.2.1//EN
TZID:Europe/Paris
X-WR-TIMEZONE:Europe/Paris
BEGIN:VEVENT
UID:0-1147@coignieres.fr
DTSTART;TZID=Europe/Paris:20260505T093000
DTEND;TZID=Europe/Paris:20260505T170000
DTSTAMP:20260423T092423Z
URL:https://www.coignieres.fr/evenements/permanence-du-conciliateur-de-jus
 tice-en-mairie-7/
SUMMARY:Permanence du conciliateur de justice en Mairie
DESCRIPTION:Service gratuit\, accessible uniquement sur rendez-vous.\nDe 9h
 30 à 12h30 et de 14h à 17h – 01 30 13 17 77 – accueil@coignieres.fr
ATTACH;FMTTYPE=image/jpeg:https://www.coignieres.fr/app/uploads/2025/10/Ch
 ristian-Bade.jpg
LOCATION:Mairie de Coignières - Place de l'Église Saint-Germain d'Auxerre
  78310 Coignières\, France
X-APPLE-STRUCTURED-LOCATION;VALUE=URI;X-ADDRESS=Mairie de Coignières - Pla
 ce de l'Église Saint-Germain d'Auxerre 78310 Coignières\, France;X-APPLE
 -RADIUS=100;X-TITLE=:geo:0,0
END:VEVENT
BEGIN:VTIMEZONE
TZID:Europe/Paris
X-LIC-LOCATION:Europe/Paris
BEGIN:DAYLIGHT
DTSTART:20260329T030000
TZOFFSETFROM:+0100
TZOFFSETTO:+0200
TZNAME:CEST
END:DAYLIGHT
END:VTIMEZONE
END:VCALENDAR