BEGIN:VCALENDAR
VERSION:2.0
PRODID:-//wp-events-plugin.com//7.2.2.1//EN
TZID:Europe/Paris
X-WR-TIMEZONE:Europe/Paris
BEGIN:VEVENT
UID:0-121@coignieres.fr
DTSTART;TZID=Europe/Paris;VALUE=DATE:20210907
DTEND;TZID=Europe/Paris;VALUE=DATE:20220302
DTSTAMP:20210728T173345Z
URL:https://www.coignieres.fr/event-recurring/permanence-du-conciliateur-d
 e-justice/
SUMMARY:Permanence du conciliateur de justice
DESCRIPTION:Un conciliateur de justice vous reçoit en Mairie\, sur rendez-
 vous\, dans le cadre de sa permanence ouverte aux Coigniériens tous les 1
 ers et 3e mardis du mois\, de 8h45 à 12h et de 14h à 17h.\nLe conciliate
 ur est à votre écoute pour vous conseiller dans le règlement à l'amiab
 le de tout litige en matière de troubles du voisinage\, désaccords bail
 leurs/locataires\, etc… \nLes rendez-vous s'effectuent sur réservation
  préalable à l'accueil de la Mairie.\nToutes les mesures d'hygiène et d
 e distanciation nécessaires ont été prises pour garantir la sécurité 
 du public et du conciliateur lors de ces rendez-vous (désinfection du bur
 eau\, mise à disposition de gel hydroalcoolique et port du masque obligat
 oire...).&nbsp\;
ATTACH;FMTTYPE=image/jpeg:https://www.coignieres.fr/app/uploads/2021/07/ju
 stice-balance-marteau.jpg
CATEGORIES:Juridique
LOCATION:Hôtel de Ville\, Place de l'Église Saint-Germain d'Auxerre 78310
  Coignières\, France
X-APPLE-STRUCTURED-LOCATION;VALUE=URI;X-ADDRESS=Place de l'Église Saint-Ge
 rmain d'Auxerre 78310 Coignières\, France;X-APPLE-RADIUS=100;X-TITLE=Hôt
 el de Ville:geo:0,0
END:VEVENT
BEGIN:VTIMEZONE
TZID:Europe/Paris
X-LIC-LOCATION:Europe/Paris
BEGIN:DAYLIGHT
DTSTART:20210328T030000
TZOFFSETFROM:+0100
TZOFFSETTO:+0200
TZNAME:CEST
END:DAYLIGHT
BEGIN:STANDARD
DTSTART:20211031T020000
TZOFFSETFROM:+0200
TZOFFSETTO:+0100
TZNAME:CET
END:STANDARD
END:VTIMEZONE
END:VCALENDAR