BEGIN:VCALENDAR
VERSION:2.0
PRODID:-//wp-events-plugin.com//7.2.2.1//EN
TZID:Europe/Paris
X-WR-TIMEZONE:Europe/Paris
BEGIN:VEVENT
UID:0-236@coignieres.fr
DTSTART;TZID=Europe/Paris:20260506T170000
DTEND;TZID=Europe/Paris:20260506T193000
DTSTAMP:20260423T093839Z
URL:https://www.coignieres.fr/evenements/permanence-juridique-3/
SUMMARY:Permanence juridique
DESCRIPTION:Sur rendez-vous en Mairie – 01 30 13 17 77 – accueil@coigni
 eres.fr
ATTACH;FMTTYPE=image/jpeg:https://www.coignieres.fr/app/uploads/2021/07/ma
 rteau-justice-scaled.jpeg
CATEGORIES:Permanence juridique
LOCATION:Mairie de Coignières\, Place de l'Église Rue des Étangs 78310 C
 oignières\, France
X-APPLE-STRUCTURED-LOCATION;VALUE=URI;X-ADDRESS=Place de l'Église Rue des 
 Étangs 78310 Coignières\, France;X-APPLE-RADIUS=100;X-TITLE=Mairie de Co
 ignières:geo:0,0
END:VEVENT
BEGIN:VTIMEZONE
TZID:Europe/Paris
X-LIC-LOCATION:Europe/Paris
BEGIN:DAYLIGHT
DTSTART:20260329T030000
TZOFFSETFROM:+0100
TZOFFSETTO:+0200
TZNAME:CEST
END:DAYLIGHT
END:VTIMEZONE
END:VCALENDAR